BEGIN:VCALENDAR
VERSION:2.0
PRODID:-//Finney Media - ECPv6.15.20//NONSGML v1.0//EN
CALSCALE:GREGORIAN
METHOD:PUBLISH
X-ORIGINAL-URL:https://finneymedia.com
X-WR-CALDESC:Events for Finney Media
REFRESH-INTERVAL;VALUE=DURATION:PT1H
X-Robots-Tag:noindex
X-PUBLISHED-TTL:PT1H
BEGIN:VTIMEZONE
TZID:America/Chicago
BEGIN:DAYLIGHT
TZOFFSETFROM:-0600
TZOFFSETTO:-0500
TZNAME:CDT
DTSTART:20250309T080000
END:DAYLIGHT
BEGIN:STANDARD
TZOFFSETFROM:-0500
TZOFFSETTO:-0600
TZNAME:CST
DTSTART:20251102T070000
END:STANDARD
BEGIN:DAYLIGHT
TZOFFSETFROM:-0600
TZOFFSETTO:-0500
TZNAME:CDT
DTSTART:20260308T080000
END:DAYLIGHT
BEGIN:STANDARD
TZOFFSETFROM:-0500
TZOFFSETTO:-0600
TZNAME:CST
DTSTART:20261101T070000
END:STANDARD
BEGIN:DAYLIGHT
TZOFFSETFROM:-0600
TZOFFSETTO:-0500
TZNAME:CDT
DTSTART:20270314T080000
END:DAYLIGHT
BEGIN:STANDARD
TZOFFSETFROM:-0500
TZOFFSETTO:-0600
TZNAME:CST
DTSTART:20271107T070000
END:STANDARD
END:VTIMEZONE
BEGIN:VEVENT
DTSTART;TZID=America/Chicago:20260127T120000
DTEND;TZID=America/Chicago:20260127T121500
DTSTAMP:20260423T142046
CREATED:20251211T185810Z
LAST-MODIFIED:20251211T200332Z
UID:7984-1769515200-1769516100@finneymedia.com
SUMMARY:Webinar: The Emotional Flow of a Good Show
DESCRIPTION:Join us for eight minutes as Senior Talent Coach Beth Bacall reflects on the emotional flow of a great radio show and how intentional moments of encouragement\, lightness\, grounding\, and connection can shape the listener experience. \n\n\n                \n                        \n                            Webin8 Registration: January 2026\n                            The Emotional Flow of a Good Show • Host: Beth Bacall\, Senior Talent Coach • Tues\, January 27\, 2026 • Noon CT/1 p.m. ET \n                        \n                        InstagramThis field is for validation purposes and should be left unchanged.Name(Required)\n                            \n                            \n                                                    First\n                                                    \n                                                \n                            \n                            \n                                                            Last\n                                                            \n                                                        \n                            \n                        Email(Required)\n                                \n                                    Enter Email\n                                    \n                                \n                                \n                                    Confirm Email\n                                    \n                                \n                                \n                            Email Signup\n								\n								Yes\, I want to receive news from Finney Media\n							How did you hear about this event?EmailSocial MediaWord of MouthWebsitePast Participant
URL:https://finneymedia.com/event/webin8-jan2026-reg/
LOCATION:Online
CATEGORIES:Webinars
ATTACH;FMTTYPE=image/png:https://finneymedia.com/wp-content/uploads/2016/06/beth-bacall-2024-e1765483482751.png
ORGANIZER;CN="Finney Media":MAILTO:info@finneymedia.com
END:VEVENT
END:VCALENDAR