BEGIN:VCALENDAR
VERSION:2.0
PRODID:-//Finney Media - ECPv6.15.20//NONSGML v1.0//EN
CALSCALE:GREGORIAN
METHOD:PUBLISH
X-ORIGINAL-URL:https://finneymedia.com
X-WR-CALDESC:Events for Finney Media
REFRESH-INTERVAL;VALUE=DURATION:PT1H
X-Robots-Tag:noindex
X-PUBLISHED-TTL:PT1H
BEGIN:VTIMEZONE
TZID:America/Chicago
BEGIN:DAYLIGHT
TZOFFSETFROM:-0600
TZOFFSETTO:-0500
TZNAME:CDT
DTSTART:20250309T080000
END:DAYLIGHT
BEGIN:STANDARD
TZOFFSETFROM:-0500
TZOFFSETTO:-0600
TZNAME:CST
DTSTART:20251102T070000
END:STANDARD
BEGIN:DAYLIGHT
TZOFFSETFROM:-0600
TZOFFSETTO:-0500
TZNAME:CDT
DTSTART:20260308T080000
END:DAYLIGHT
BEGIN:STANDARD
TZOFFSETFROM:-0500
TZOFFSETTO:-0600
TZNAME:CST
DTSTART:20261101T070000
END:STANDARD
BEGIN:DAYLIGHT
TZOFFSETFROM:-0600
TZOFFSETTO:-0500
TZNAME:CDT
DTSTART:20270314T080000
END:DAYLIGHT
BEGIN:STANDARD
TZOFFSETFROM:-0500
TZOFFSETTO:-0600
TZNAME:CST
DTSTART:20271107T070000
END:STANDARD
END:VTIMEZONE
BEGIN:VEVENT
DTSTART;TZID=America/Chicago:20260512T120000
DTEND;TZID=America/Chicago:20260512T121500
DTSTAMP:20260423T123431
CREATED:20260415T185104Z
LAST-MODIFIED:20260420T185002Z
UID:8217-1778587200-1778588100@finneymedia.com
SUMMARY:May Webin8 Webinar: If Christian Radio was Invented Today
DESCRIPTION:Webinar: If Christian radio was invented today\, THREE things we’d do differently\nTuesday\, May 12\, 2026 • Noon CT/1pm ET (Online)Host: Gary Morland\, Talent Coach\nResearch shows Christian radio listeners want more spiritual and more uplifting. If we were starting over from scratch\, what are the things we’d do differently to reach the hearts of listeners more deeply? In eight minutes\, Talent Coach Gary Morland will explain why spiritual and more uplifting is the way to go and give you real-world examples that you can takeaway and apply to your station or program today. \n\n\n                \n                        \n                            Webin8 Registration: May 2026\n                            Fill out the form below to reserve your spot for our upcoming webinar. \n                        \n                        EmailThis field is for validation purposes and should be left unchanged.Name(Required)\n                            \n                            \n                                                    First\n                                                    \n                                                \n                            \n                            \n                                                            Last\n                                                            \n                                                        \n                            \n                        Email(Required)\n                                \n                                    Enter Email\n                                    \n                                \n                                \n                                    Confirm Email\n                                    \n                                \n                                \n                            Email Signup\n								\n								Yes\, I want to receive news from Finney Media\n							How did you hear about this event?EmailSocial MediaWord of MouthWebsitePast Participant\n          \n            \n            \n            \n            \n            \n            \n            \n            \n            \n            \n            \n            \n            \n        \n                        \n                        \n\n\n\n\n 
URL:https://finneymedia.com/event/webin8-may2026-reg/
LOCATION:Online
CATEGORIES:Webinars
ATTACH;FMTTYPE=image/png:https://finneymedia.com/wp-content/uploads/2026/04/Gary-Morland-headshot-edited-2.png
ORGANIZER;CN="Finney Media":MAILTO:info@finneymedia.com
END:VEVENT
END:VCALENDAR