BEGIN:VCALENDAR
VERSION:2.0
PRODID:-//Finney Media - ECPv6.15.20//NONSGML v1.0//EN
CALSCALE:GREGORIAN
METHOD:PUBLISH
X-ORIGINAL-URL:https://finneymedia.com
X-WR-CALDESC:Events for Finney Media
REFRESH-INTERVAL;VALUE=DURATION:PT1H
X-Robots-Tag:noindex
X-PUBLISHED-TTL:PT1H
BEGIN:VTIMEZONE
TZID:America/Chicago
BEGIN:DAYLIGHT
TZOFFSETFROM:-0600
TZOFFSETTO:-0500
TZNAME:CDT
DTSTART:20250309T080000
END:DAYLIGHT
BEGIN:STANDARD
TZOFFSETFROM:-0500
TZOFFSETTO:-0600
TZNAME:CST
DTSTART:20251102T070000
END:STANDARD
BEGIN:DAYLIGHT
TZOFFSETFROM:-0600
TZOFFSETTO:-0500
TZNAME:CDT
DTSTART:20260308T080000
END:DAYLIGHT
BEGIN:STANDARD
TZOFFSETFROM:-0500
TZOFFSETTO:-0600
TZNAME:CST
DTSTART:20261101T070000
END:STANDARD
BEGIN:DAYLIGHT
TZOFFSETFROM:-0600
TZOFFSETTO:-0500
TZNAME:CDT
DTSTART:20270314T080000
END:DAYLIGHT
BEGIN:STANDARD
TZOFFSETFROM:-0500
TZOFFSETTO:-0600
TZNAME:CST
DTSTART:20271107T070000
END:STANDARD
END:VTIMEZONE
BEGIN:VEVENT
DTSTART;TZID=America/Chicago:20260324T120000
DTEND;TZID=America/Chicago:20260324T121500
DTSTAMP:20260423T124204
CREATED:20251217T221631Z
LAST-MODIFIED:20260225T153647Z
UID:8010-1774353600-1774354500@finneymedia.com
SUMMARY:March Webin8 Webinar: Seven Habits of Highly Successful Christian Stations
DESCRIPTION:Webinar: Seven Habits of Highly Successful Christian Stations\nHost: Vance Dillard\, Audience Growth Consultant \nIn our ever-changing world\, staying up-to-date on the successes happening for our peers in Christian radio can keep us on a path to success with our own stations and formats. Join us for eight minutes where we’ll explore seven important keys that can lead to the success of today’s Christian media. \n\n\n                \n                        \n                            Webin8 Registration: March 2026\n                            Fill out the form below to reserve your spot for our upcoming webinar. \n                        \n                        InstagramThis field is for validation purposes and should be left unchanged.Name(Required)\n                            \n                            \n                                                    First\n                                                    \n                                                \n                            \n                            \n                                                            Last\n                                                            \n                                                        \n                            \n                        Email(Required)\n                                \n                                    Enter Email\n                                    \n                                \n                                \n                                    Confirm Email\n                                    \n                                \n                                \n                            Email Signup\n								\n								Yes\, I want to receive news from Finney Media\n							How did you hear about this event?EmailSocial MediaWord of MouthWebsitePast Participant\n          \n            \n            \n            \n            \n            \n            \n            \n            \n            \n            \n            \n            \n            \n        \n                        \n                        \n\n  \n\n\n\n 
URL:https://finneymedia.com/event/webin8-mar2026-reg/
LOCATION:Online
CATEGORIES:Webinars
ORGANIZER;CN="Finney Media":MAILTO:info@finneymedia.com
END:VEVENT
END:VCALENDAR