BEGIN:VCALENDAR
VERSION:2.0
PRODID:-//Finney Media - ECPv6.15.20//NONSGML v1.0//EN
CALSCALE:GREGORIAN
METHOD:PUBLISH
X-ORIGINAL-URL:https://finneymedia.com
X-WR-CALDESC:Events for Finney Media
REFRESH-INTERVAL;VALUE=DURATION:PT1H
X-Robots-Tag:noindex
X-PUBLISHED-TTL:PT1H
BEGIN:VTIMEZONE
TZID:America/Chicago
BEGIN:DAYLIGHT
TZOFFSETFROM:-0600
TZOFFSETTO:-0500
TZNAME:CDT
DTSTART:20250309T080000
END:DAYLIGHT
BEGIN:STANDARD
TZOFFSETFROM:-0500
TZOFFSETTO:-0600
TZNAME:CST
DTSTART:20251102T070000
END:STANDARD
BEGIN:DAYLIGHT
TZOFFSETFROM:-0600
TZOFFSETTO:-0500
TZNAME:CDT
DTSTART:20260308T080000
END:DAYLIGHT
BEGIN:STANDARD
TZOFFSETFROM:-0500
TZOFFSETTO:-0600
TZNAME:CST
DTSTART:20261101T070000
END:STANDARD
BEGIN:DAYLIGHT
TZOFFSETFROM:-0600
TZOFFSETTO:-0500
TZNAME:CDT
DTSTART:20270314T080000
END:DAYLIGHT
BEGIN:STANDARD
TZOFFSETFROM:-0500
TZOFFSETTO:-0600
TZNAME:CST
DTSTART:20271107T070000
END:STANDARD
END:VTIMEZONE
BEGIN:VEVENT
DTSTART;VALUE=DATE:20260217
DTEND;VALUE=DATE:20260221
DTSTAMP:20260423T141247
CREATED:20251211T200047Z
LAST-MODIFIED:20260202T173925Z
UID:7993-1771286400-1771631999@finneymedia.com
SUMMARY:2026 NRB Convention
DESCRIPTION:Finney Media Attendees: Chuck Finney\, Vance Dillard\, Jon Hull \nNRB Talks: 2025 Finney Media Why Listen® Presentation\nWed\, Feb 18\, 2026 • 10:15am to 11:00am\nSpeaker: Chuck Finney\, President\nA nationwide Christian radio listener deep dive into why your listeners listen\, why they give\, and why they tune away. Do listeners want your station or program to be more Christ-focused? Yes! Finney Media conducted the 2025 Why Listen Study earlier this year. Join us for insights into your listener’s wants and receive Action Points you can take back to your ministry this coming week to Grow Audience. \nNRB Talks: Radio Research Findings\nThurs\, Feb 19\, 2026 • 11:15am to 12:00pm\nSpeaker: Chuck Finney\, President\nListening to your listener. It’s crucial to understanding how you’re going to communicate your ministry message clearly. Because her mind and heart are distracted and busy\, her listening environment is noisy and she is almost always doing something else while listening. Understanding all of this can be daunting. And research is expensive. Research and Programming Expert Chuck Finney will walk you through ways of thinking about all of this . . . and some ways of discovering how to get into the mind of your listener in a more cost-effective way. \nSCHEDULE A MEETING
URL:https://finneymedia.com/event/2026-nrb-conference/
LOCATION:Gaylord Opryland Resort & Convention Center\, 2800 Opryland Drive\, Nashville\, TN\, 37214\, United States
CATEGORIES:Conference
ATTACH;FMTTYPE=image/webp:https://finneymedia.com/wp-content/uploads/2025/12/NRB26-LOGO_LONG-TAG-COLOR-ALT-250w.webp
END:VEVENT
END:VCALENDAR